BEGIN:VCALENDAR
VERSION:2.0
PRODID:-//笑う門には福来る『介護タクシーのフクタク』 - ECPv6.2.0.1//NONSGML v1.0//EN
CALSCALE:GREGORIAN
METHOD:PUBLISH
X-WR-CALNAME:笑う門には福来る『介護タクシーのフクタク』
X-ORIGINAL-URL:https://fukutaku.com
X-WR-CALDESC:笑う門には福来る『介護タクシーのフクタク』 のイベント
REFRESH-INTERVAL;VALUE=DURATION:PT1H
X-Robots-Tag:noindex
X-PUBLISHED-TTL:PT1H
BEGIN:VTIMEZONE
TZID:Asia/Tokyo
BEGIN:STANDARD
TZOFFSETFROM:+0900
TZOFFSETTO:+0900
TZNAME:JST
DTSTART:20230101T000000
END:STANDARD
END:VTIMEZONE
BEGIN:VEVENT
DTSTART;TZID=Asia/Tokyo:20230905T140000
DTEND;TZID=Asia/Tokyo:20230905T150000
DTSTAMP:20260426T111732
CREATED:20230905T020901Z
LAST-MODIFIED:20230905T020901Z
UID:202-1693922400-1693926000@fukutaku.com
SUMMARY:14時～　〇
DESCRIPTION:
URL:https://fukutaku.com/reservation/090514/
CATEGORIES:利用可能
END:VEVENT
BEGIN:VEVENT
DTSTART;TZID=Asia/Tokyo:20230905T130000
DTEND;TZID=Asia/Tokyo:20230905T140000
DTSTAMP:20260426T111732
CREATED:20230905T020823Z
LAST-MODIFIED:20230905T020823Z
UID:200-1693918800-1693922400@fukutaku.com
SUMMARY:13時～　〇
DESCRIPTION:
URL:https://fukutaku.com/reservation/090513/
CATEGORIES:利用可能
END:VEVENT
BEGIN:VEVENT
DTSTART;TZID=Asia/Tokyo:20230905T120000
DTEND;TZID=Asia/Tokyo:20230905T130000
DTSTAMP:20260426T111732
CREATED:20230905T020748Z
LAST-MODIFIED:20230905T025159Z
UID:197-1693915200-1693918800@fukutaku.com
SUMMARY:12時～　✕
DESCRIPTION:
URL:https://fukutaku.com/reservation/090512/
CATEGORIES:利用不可
END:VEVENT
BEGIN:VEVENT
DTSTART;TZID=Asia/Tokyo:20230905T110000
DTEND;TZID=Asia/Tokyo:20230905T120000
DTSTAMP:20260426T111732
CREATED:20230905T020656Z
LAST-MODIFIED:20230905T025412Z
UID:195-1693911600-1693915200@fukutaku.com
SUMMARY:11時～　✕
DESCRIPTION:
URL:https://fukutaku.com/reservation/090511/
CATEGORIES:利用不可
END:VEVENT
BEGIN:VEVENT
DTSTART;TZID=Asia/Tokyo:20230905T100000
DTEND;TZID=Asia/Tokyo:20230905T110000
DTSTAMP:20260426T111732
CREATED:20230905T020535Z
LAST-MODIFIED:20230905T030408Z
UID:193-1693908000-1693911600@fukutaku.com
SUMMARY:10時～　✕
DESCRIPTION:
URL:https://fukutaku.com/reservation/091010/
CATEGORIES:利用不可
END:VEVENT
BEGIN:VEVENT
DTSTART;TZID=Asia/Tokyo:20230905T090000
DTEND;TZID=Asia/Tokyo:20230905T100000
DTSTAMP:20260426T111732
CREATED:20230905T020454Z
LAST-MODIFIED:20230905T025347Z
UID:191-1693904400-1693908000@fukutaku.com
SUMMARY:９時～　✕
DESCRIPTION:
URL:https://fukutaku.com/reservation/090509/
CATEGORIES:利用不可
END:VEVENT
BEGIN:VEVENT
DTSTART;TZID=Asia/Tokyo:20230905T080000
DTEND;TZID=Asia/Tokyo:20230905T090000
DTSTAMP:20260426T111732
CREATED:20230905T020106Z
LAST-MODIFIED:20230905T025331Z
UID:189-1693900800-1693904400@fukutaku.com
SUMMARY:８時～　✕
DESCRIPTION:
URL:https://fukutaku.com/reservation/090508/
CATEGORIES:利用不可
END:VEVENT
END:VCALENDAR