BEGIN:VCALENDAR
VERSION:2.0
PRODID:-//笑う門には福来る『介護タクシーのフクタク』 - ECPv6.2.0.1//NONSGML v1.0//EN
CALSCALE:GREGORIAN
METHOD:PUBLISH
X-ORIGINAL-URL:https://fukutaku.com
X-WR-CALDESC:笑う門には福来る『介護タクシーのフクタク』 のイベント
REFRESH-INTERVAL;VALUE=DURATION:PT1H
X-Robots-Tag:noindex
X-PUBLISHED-TTL:PT1H
BEGIN:VTIMEZONE
TZID:Asia/Tokyo
BEGIN:STANDARD
TZOFFSETFROM:+0900
TZOFFSETTO:+0900
TZNAME:JST
DTSTART:20230101T000000
END:STANDARD
END:VTIMEZONE
BEGIN:VEVENT
DTSTART;TZID=Asia/Tokyo:20231024T080000
DTEND;TZID=Asia/Tokyo:20231024T090000
DTSTAMP:20260426T014051
CREATED:20231024T091608Z
LAST-MODIFIED:20231024T091608Z
UID:281-1698134400-1698138000@fukutaku.com
SUMMARY:8時　○
DESCRIPTION:
URL:https://fukutaku.com/reservation/102408/
CATEGORIES:利用可能
END:VEVENT
BEGIN:VEVENT
DTSTART;TZID=Asia/Tokyo:20230907T170000
DTEND;TZID=Asia/Tokyo:20230907T180000
DTSTAMP:20260426T014051
CREATED:20230905T145255Z
LAST-MODIFIED:20230905T145255Z
UID:258-1694106000-1694109600@fukutaku.com
SUMMARY:17時　〇
DESCRIPTION:
URL:https://fukutaku.com/reservation/090717/
CATEGORIES:利用可能
END:VEVENT
BEGIN:VEVENT
DTSTART;TZID=Asia/Tokyo:20230907T160000
DTEND;TZID=Asia/Tokyo:20230907T170000
DTSTAMP:20260426T014051
CREATED:20230905T145231Z
LAST-MODIFIED:20230905T145231Z
UID:256-1694102400-1694106000@fukutaku.com
SUMMARY:16時　〇
DESCRIPTION:
URL:https://fukutaku.com/reservation/090716/
CATEGORIES:利用可能
END:VEVENT
BEGIN:VEVENT
DTSTART;TZID=Asia/Tokyo:20230907T150000
DTEND;TZID=Asia/Tokyo:20230907T160000
DTSTAMP:20260426T014051
CREATED:20230905T145204Z
LAST-MODIFIED:20230905T145204Z
UID:254-1694098800-1694102400@fukutaku.com
SUMMARY:15時　〇
DESCRIPTION:
URL:https://fukutaku.com/reservation/090715/
CATEGORIES:利用可能
END:VEVENT
BEGIN:VEVENT
DTSTART;TZID=Asia/Tokyo:20230907T140000
DTEND;TZID=Asia/Tokyo:20230907T150000
DTSTAMP:20260426T014051
CREATED:20230905T145135Z
LAST-MODIFIED:20230905T145135Z
UID:252-1694095200-1694098800@fukutaku.com
SUMMARY:14時　〇
DESCRIPTION:
URL:https://fukutaku.com/reservation/090714/
CATEGORIES:利用可能
END:VEVENT
BEGIN:VEVENT
DTSTART;TZID=Asia/Tokyo:20230907T130000
DTEND;TZID=Asia/Tokyo:20230907T140000
DTSTAMP:20260426T014051
CREATED:20230905T145055Z
LAST-MODIFIED:20230905T145055Z
UID:250-1694091600-1694095200@fukutaku.com
SUMMARY:13時　〇
DESCRIPTION:
URL:https://fukutaku.com/reservation/090713/
CATEGORIES:利用可能
END:VEVENT
BEGIN:VEVENT
DTSTART;TZID=Asia/Tokyo:20230907T120000
DTEND;TZID=Asia/Tokyo:20230907T120000
DTSTAMP:20260426T014051
CREATED:20230905T145018Z
LAST-MODIFIED:20230905T145018Z
UID:248-1694088000-1694088000@fukutaku.com
SUMMARY:12時　✕
DESCRIPTION:
URL:https://fukutaku.com/reservation/090712/
CATEGORIES:利用不可
END:VEVENT
BEGIN:VEVENT
DTSTART;TZID=Asia/Tokyo:20230907T110000
DTEND;TZID=Asia/Tokyo:20230907T120000
DTSTAMP:20260426T014051
CREATED:20230905T144937Z
LAST-MODIFIED:20230905T144937Z
UID:246-1694084400-1694088000@fukutaku.com
SUMMARY:11時　〇
DESCRIPTION:
URL:https://fukutaku.com/reservation/090711/
CATEGORIES:利用可能
END:VEVENT
BEGIN:VEVENT
DTSTART;TZID=Asia/Tokyo:20230907T100000
DTEND;TZID=Asia/Tokyo:20230907T110000
DTSTAMP:20260426T014051
CREATED:20230905T144845Z
LAST-MODIFIED:20230905T144845Z
UID:244-1694080800-1694084400@fukutaku.com
SUMMARY:10時　〇
DESCRIPTION:
URL:https://fukutaku.com/reservation/090710/
CATEGORIES:利用可能
END:VEVENT
BEGIN:VEVENT
DTSTART;TZID=Asia/Tokyo:20230907T090000
DTEND;TZID=Asia/Tokyo:20230907T100000
DTSTAMP:20260426T014051
CREATED:20230905T144810Z
LAST-MODIFIED:20230905T144810Z
UID:242-1694077200-1694080800@fukutaku.com
SUMMARY:９時　△
DESCRIPTION:
URL:https://fukutaku.com/reservation/090709/
CATEGORIES:利用可能
END:VEVENT
BEGIN:VEVENT
DTSTART;TZID=Asia/Tokyo:20230907T080000
DTEND;TZID=Asia/Tokyo:20230907T090000
DTSTAMP:20260426T014051
CREATED:20230905T144739Z
LAST-MODIFIED:20230905T144739Z
UID:239-1694073600-1694077200@fukutaku.com
SUMMARY:８時　〇
DESCRIPTION:
URL:https://fukutaku.com/reservation/090708/
CATEGORIES:利用可能
END:VEVENT
BEGIN:VEVENT
DTSTART;TZID=Asia/Tokyo:20230906T170000
DTEND;TZID=Asia/Tokyo:20230906T180000
DTSTAMP:20260426T014051
CREATED:20230905T030149Z
LAST-MODIFIED:20230905T030149Z
UID:237-1694019600-1694023200@fukutaku.com
SUMMARY:17時　〇
DESCRIPTION:見出し4
URL:https://fukutaku.com/reservation/090617/
CATEGORIES:利用可能
END:VEVENT
BEGIN:VEVENT
DTSTART;TZID=Asia/Tokyo:20230906T160000
DTEND;TZID=Asia/Tokyo:20230906T170000
DTSTAMP:20260426T014051
CREATED:20230905T030104Z
LAST-MODIFIED:20230905T030104Z
UID:235-1694016000-1694019600@fukutaku.com
SUMMARY:16時　〇
DESCRIPTION:
URL:https://fukutaku.com/reservation/090616/
CATEGORIES:利用可能
END:VEVENT
BEGIN:VEVENT
DTSTART;TZID=Asia/Tokyo:20230906T150000
DTEND;TZID=Asia/Tokyo:20230906T160000
DTSTAMP:20260426T014051
CREATED:20230905T030024Z
LAST-MODIFIED:20230905T030024Z
UID:233-1694012400-1694016000@fukutaku.com
SUMMARY:15時　〇
DESCRIPTION:
URL:https://fukutaku.com/reservation/090615/
CATEGORIES:利用可能
END:VEVENT
BEGIN:VEVENT
DTSTART;TZID=Asia/Tokyo:20230906T140000
DTEND;TZID=Asia/Tokyo:20230906T150000
DTSTAMP:20260426T014051
CREATED:20230905T025948Z
LAST-MODIFIED:20230905T025948Z
UID:231-1694008800-1694012400@fukutaku.com
SUMMARY:14時　〇
DESCRIPTION:
URL:https://fukutaku.com/reservation/090614/
CATEGORIES:利用可能
END:VEVENT
BEGIN:VEVENT
DTSTART;TZID=Asia/Tokyo:20230906T130000
DTEND;TZID=Asia/Tokyo:20230906T140000
DTSTAMP:20260426T014051
CREATED:20230905T025902Z
LAST-MODIFIED:20230905T025902Z
UID:229-1694005200-1694008800@fukutaku.com
SUMMARY:13時　△
DESCRIPTION:
URL:https://fukutaku.com/reservation/090613/
CATEGORIES:利用可能
END:VEVENT
BEGIN:VEVENT
DTSTART;TZID=Asia/Tokyo:20230906T120000
DTEND;TZID=Asia/Tokyo:20230906T130000
DTSTAMP:20260426T014051
CREATED:20230905T025714Z
LAST-MODIFIED:20230905T025738Z
UID:227-1694001600-1694005200@fukutaku.com
SUMMARY:12時　✕
DESCRIPTION:
URL:https://fukutaku.com/reservation/090612/
CATEGORIES:利用不可
END:VEVENT
BEGIN:VEVENT
DTSTART;TZID=Asia/Tokyo:20230906T110000
DTEND;TZID=Asia/Tokyo:20230906T120000
DTSTAMP:20260426T014051
CREATED:20230905T025638Z
LAST-MODIFIED:20230905T025638Z
UID:225-1693998000-1694001600@fukutaku.com
SUMMARY:11時　✕
DESCRIPTION:
URL:https://fukutaku.com/reservation/090611/
CATEGORIES:利用不可
END:VEVENT
BEGIN:VEVENT
DTSTART;TZID=Asia/Tokyo:20230906T100000
DTEND;TZID=Asia/Tokyo:20230906T110000
DTSTAMP:20260426T014051
CREATED:20230905T025602Z
LAST-MODIFIED:20230905T025602Z
UID:223-1693994400-1693998000@fukutaku.com
SUMMARY:10時　✕
DESCRIPTION:
URL:https://fukutaku.com/reservation/090610/
CATEGORIES:利用不可
END:VEVENT
BEGIN:VEVENT
DTSTART;TZID=Asia/Tokyo:20230906T090000
DTEND;TZID=Asia/Tokyo:20230906T100000
DTSTAMP:20260426T014051
CREATED:20230905T025524Z
LAST-MODIFIED:20230905T025524Z
UID:221-1693990800-1693994400@fukutaku.com
SUMMARY:９時　✕
DESCRIPTION:
URL:https://fukutaku.com/reservation/090609/
CATEGORIES:利用不可
END:VEVENT
BEGIN:VEVENT
DTSTART;TZID=Asia/Tokyo:20230906T080000
DTEND;TZID=Asia/Tokyo:20230906T090000
DTSTAMP:20260426T014051
CREATED:20230905T025310Z
LAST-MODIFIED:20230905T025310Z
UID:219-1693987200-1693990800@fukutaku.com
SUMMARY:８時　✕
DESCRIPTION:
URL:https://fukutaku.com/reservation/090608/
CATEGORIES:利用不可
END:VEVENT
BEGIN:VEVENT
DTSTART;TZID=Asia/Tokyo:20230905T170000
DTEND;TZID=Asia/Tokyo:20230905T180000
DTSTAMP:20260426T014051
CREATED:20230905T021109Z
LAST-MODIFIED:20230905T024525Z
UID:208-1693933200-1693936800@fukutaku.com
SUMMARY:17時～　〇
DESCRIPTION:
URL:https://fukutaku.com/reservation/090517/
CATEGORIES:利用可能
END:VEVENT
BEGIN:VEVENT
DTSTART;TZID=Asia/Tokyo:20230905T160000
DTEND;TZID=Asia/Tokyo:20230905T170000
DTSTAMP:20260426T014051
CREATED:20230905T021034Z
LAST-MODIFIED:20230905T021034Z
UID:206-1693929600-1693933200@fukutaku.com
SUMMARY:16時～　〇
DESCRIPTION:
URL:https://fukutaku.com/reservation/090516/
CATEGORIES:利用可能
END:VEVENT
BEGIN:VEVENT
DTSTART;TZID=Asia/Tokyo:20230905T150000
DTEND;TZID=Asia/Tokyo:20230905T160000
DTSTAMP:20260426T014051
CREATED:20230905T020956Z
LAST-MODIFIED:20230905T020956Z
UID:204-1693926000-1693929600@fukutaku.com
SUMMARY:15時～　〇
DESCRIPTION:
URL:https://fukutaku.com/reservation/090515/
CATEGORIES:利用可能
END:VEVENT
BEGIN:VEVENT
DTSTART;TZID=Asia/Tokyo:20230905T140000
DTEND;TZID=Asia/Tokyo:20230905T150000
DTSTAMP:20260426T014051
CREATED:20230905T020901Z
LAST-MODIFIED:20230905T020901Z
UID:202-1693922400-1693926000@fukutaku.com
SUMMARY:14時～　〇
DESCRIPTION:
URL:https://fukutaku.com/reservation/090514/
CATEGORIES:利用可能
END:VEVENT
BEGIN:VEVENT
DTSTART;TZID=Asia/Tokyo:20230905T130000
DTEND;TZID=Asia/Tokyo:20230905T140000
DTSTAMP:20260426T014051
CREATED:20230905T020823Z
LAST-MODIFIED:20230905T020823Z
UID:200-1693918800-1693922400@fukutaku.com
SUMMARY:13時～　〇
DESCRIPTION:
URL:https://fukutaku.com/reservation/090513/
CATEGORIES:利用可能
END:VEVENT
BEGIN:VEVENT
DTSTART;TZID=Asia/Tokyo:20230905T120000
DTEND;TZID=Asia/Tokyo:20230905T130000
DTSTAMP:20260426T014051
CREATED:20230905T020748Z
LAST-MODIFIED:20230905T025159Z
UID:197-1693915200-1693918800@fukutaku.com
SUMMARY:12時～　✕
DESCRIPTION:
URL:https://fukutaku.com/reservation/090512/
CATEGORIES:利用不可
END:VEVENT
BEGIN:VEVENT
DTSTART;TZID=Asia/Tokyo:20230905T110000
DTEND;TZID=Asia/Tokyo:20230905T120000
DTSTAMP:20260426T014051
CREATED:20230905T020656Z
LAST-MODIFIED:20230905T025412Z
UID:195-1693911600-1693915200@fukutaku.com
SUMMARY:11時～　✕
DESCRIPTION:
URL:https://fukutaku.com/reservation/090511/
CATEGORIES:利用不可
END:VEVENT
BEGIN:VEVENT
DTSTART;TZID=Asia/Tokyo:20230905T100000
DTEND;TZID=Asia/Tokyo:20230905T110000
DTSTAMP:20260426T014051
CREATED:20230905T020535Z
LAST-MODIFIED:20230905T030408Z
UID:193-1693908000-1693911600@fukutaku.com
SUMMARY:10時～　✕
DESCRIPTION:
URL:https://fukutaku.com/reservation/091010/
CATEGORIES:利用不可
END:VEVENT
BEGIN:VEVENT
DTSTART;TZID=Asia/Tokyo:20230905T090000
DTEND;TZID=Asia/Tokyo:20230905T100000
DTSTAMP:20260426T014051
CREATED:20230905T020454Z
LAST-MODIFIED:20230905T025347Z
UID:191-1693904400-1693908000@fukutaku.com
SUMMARY:９時～　✕
DESCRIPTION:
URL:https://fukutaku.com/reservation/090509/
CATEGORIES:利用不可
END:VEVENT
END:VCALENDAR